BEGIN:VCALENDAR
VERSION:2.0
PRODID:-//THE TENNESSEE HOLLER - ECPv6.15.20//NONSGML v1.0//EN
CALSCALE:GREGORIAN
METHOD:PUBLISH
X-ORIGINAL-URL:https://tnholler.com
X-WR-CALDESC:Events for THE TENNESSEE HOLLER
REFRESH-INTERVAL;VALUE=DURATION:PT1H
X-Robots-Tag:noindex
X-PUBLISHED-TTL:PT1H
BEGIN:VTIMEZONE
TZID:America/Chicago
BEGIN:DAYLIGHT
TZOFFSETFROM:-0600
TZOFFSETTO:-0500
TZNAME:CDT
DTSTART:20190310T080000
END:DAYLIGHT
BEGIN:STANDARD
TZOFFSETFROM:-0500
TZOFFSETTO:-0600
TZNAME:CST
DTSTART:20191103T070000
END:STANDARD
BEGIN:DAYLIGHT
TZOFFSETFROM:-0600
TZOFFSETTO:-0500
TZNAME:CDT
DTSTART:20200308T080000
END:DAYLIGHT
BEGIN:STANDARD
TZOFFSETFROM:-0500
TZOFFSETTO:-0600
TZNAME:CST
DTSTART:20201101T070000
END:STANDARD
BEGIN:DAYLIGHT
TZOFFSETFROM:-0600
TZOFFSETTO:-0500
TZNAME:CDT
DTSTART:20210314T080000
END:DAYLIGHT
BEGIN:STANDARD
TZOFFSETFROM:-0500
TZOFFSETTO:-0600
TZNAME:CST
DTSTART:20211107T070000
END:STANDARD
END:VTIMEZONE
BEGIN:VEVENT
DTSTART;TZID=America/Chicago:20201008T180000
DTEND;TZID=America/Chicago:20201008T190000
DTSTAMP:20260423T045415
CREATED:20201005T003810Z
LAST-MODIFIED:20201005T003810Z
UID:4865-1602180000-1602183600@tnholler.com
SUMMARY:Porch Politics
DESCRIPTION:Tune in for a broadcast of Porch Politics\, live on Facebook and Twitter. Hosted by Charlane Oliver and Tequila Johnson\, Porch Politics is a raw\, real and unapologetic conversation between friends turned democracy entrepreneurs. They are co-founders and co-executive directors of The Equity Alliance\, a Tennessee statewide force in building Black voter engagement and economic power\, purposed to uproot systems of inequity.
URL:https://tnholler.com/event/porch-politics-2/
ATTACH;FMTTYPE=image/png:https://tnholler.com/wp-content/uploads/2020/07/PorchPolitics.png
END:VEVENT
BEGIN:VEVENT
DTSTART;TZID=America/Chicago:20201008T140000
DTEND;TZID=America/Chicago:20201008T150000
DTSTAMP:20260423T045415
CREATED:20201005T004126Z
LAST-MODIFIED:20201005T004247Z
UID:4871-1602165600-1602169200@tnholler.com
SUMMARY:Thursday #HollerHour
DESCRIPTION:Join us LIVE at 2 pm CT for our bi-weekly #HollerHour with @cassjacks and @kanew where we yell about the news of the week with YOU! DM us on Twitter or Facebook for the video link to join our call so that you can holler at us about whatever you want.
URL:https://tnholler.com/event/thursday-hollerhour-2/
ATTACH;FMTTYPE=image/png:https://tnholler.com/wp-content/uploads/2020/09/HollerHourFB.png
END:VEVENT
BEGIN:VEVENT
DTSTART;TZID=America/Chicago:20201006T140000
DTEND;TZID=America/Chicago:20201006T150000
DTSTAMP:20260423T045415
CREATED:20201005T004025Z
LAST-MODIFIED:20201005T004154Z
UID:4868-1601992800-1601996400@tnholler.com
SUMMARY:Tuesday #HollerHour
DESCRIPTION:Join us LIVE at 2 pm CT for our bi-weekly #HollerHour with @cassjacks and @kanew where we yell about the news of the week with YOU! DM us on Twitter or Facebook for the video link to join our call so that you can holler at us about whatever you want.
URL:https://tnholler.com/event/tuesday-hollerhour-2/
ATTACH;FMTTYPE=image/png:https://tnholler.com/wp-content/uploads/2020/09/HollerHourFB.png
END:VEVENT
BEGIN:VEVENT
DTSTART;TZID=America/Chicago:20201005T140000
DTEND;TZID=America/Chicago:20201005T150000
DTSTAMP:20260423T045415
CREATED:20201005T004439Z
LAST-MODIFIED:20201005T004439Z
UID:4880-1601906400-1601910000@tnholler.com
SUMMARY:A Case of the Mundays
DESCRIPTION:Wade Munday comes at you LIVE every week to have conversations with local progressives about how to advance justice in Tennessee. Watch the live broadcast on Twitter and Facebook every Monday at 2 pm Central.
URL:https://tnholler.com/event/a-case-of-the-mundays-3/
ATTACH;FMTTYPE=image/png:https://tnholler.com/wp-content/uploads/2020/08/LOGO2.png
END:VEVENT
BEGIN:VEVENT
DTSTART;TZID=America/Chicago:20201001T140000
DTEND;TZID=America/Chicago:20201001T150000
DTSTAMP:20260423T045415
CREATED:20200928T003019Z
LAST-MODIFIED:20200928T003019Z
UID:4816-1601560800-1601564400@tnholler.com
SUMMARY:Thursday #HollerHour
DESCRIPTION:Join us LIVE at 2 pm CT for our bi-weekly #HollerHour with Kanew and Cassie where we yell about the news of the week with YOU! DM us on Twitter or Facebook for the video link to join our call so that you can holler at us about whatever you want.
URL:https://tnholler.com/event/thursday-hollerhour/
ATTACH;FMTTYPE=image/png:https://tnholler.com/wp-content/uploads/2020/09/HollerHourFB.png
END:VEVENT
BEGIN:VEVENT
DTSTART;TZID=America/Chicago:20200930T110000
DTEND;TZID=America/Chicago:20200930T120000
DTSTAMP:20260423T045415
CREATED:20200928T004934Z
LAST-MODIFIED:20200928T004934Z
UID:4826-1601463600-1601467200@tnholler.com
SUMMARY:LIVE with Keely Sage
DESCRIPTION:Tune in for our flagship broadcast\, The Tennessee Holler Live Show with Justin Kanew. Today we’ll be talking with Keely Sage\, President of the Tennessee College Democrats.
URL:https://tnholler.com/event/live-with-keely-sage/
ATTACH;FMTTYPE=image/png:https://tnholler.com/wp-content/uploads/2020/08/Live-Show.png
END:VEVENT
BEGIN:VEVENT
DTSTART;TZID=America/Chicago:20200929T140000
DTEND;TZID=America/Chicago:20200929T150000
DTSTAMP:20260423T045415
CREATED:20200928T002735Z
LAST-MODIFIED:20200928T002735Z
UID:4811-1601388000-1601391600@tnholler.com
SUMMARY:Tuesday #HollerHour
DESCRIPTION:Join us LIVE at 2 pm CT for our bi-weekly #HollerHour with Kanew and Cassie where we yell about the news of the week with YOU! DM us on Twitter or Facebook for the video link to join our call so that you can holler at us about whatever you want.
URL:https://tnholler.com/event/tuesday-hollerhour/
ATTACH;FMTTYPE=image/png:https://tnholler.com/wp-content/uploads/2020/09/HollerHourFB.png
END:VEVENT
BEGIN:VEVENT
DTSTART;TZID=America/Chicago:20200929T110000
DTEND;TZID=America/Chicago:20200929T120000
DTSTAMP:20260423T045415
CREATED:20200928T004137Z
LAST-MODIFIED:20200928T004137Z
UID:4819-1601377200-1601380800@tnholler.com
SUMMARY:LIVE with Jarvus Turnley
DESCRIPTION:Tune in for our flagship broadcast\, The Tennessee Holler Live Show with Justin Kanew. Today we’ll be talking with Jarvus Turnley about his race for State House District 66.
URL:https://tnholler.com/event/live-with-jarvus-turnley/
ATTACH;FMTTYPE=image/png:https://tnholler.com/wp-content/uploads/2020/08/Live-Show.png
END:VEVENT
BEGIN:VEVENT
DTSTART;TZID=America/Chicago:20200928T140000
DTEND;TZID=America/Chicago:20200928T150000
DTSTAMP:20260423T045415
CREATED:20200928T004549Z
LAST-MODIFIED:20200928T004549Z
UID:4823-1601301600-1601305200@tnholler.com
SUMMARY:A Case of the Mundays
DESCRIPTION:Wade Munday comes at you LIVE every week to have conversations with local progressives about how to advance justice in Tennessee. Watch the live broadcast on Twitter and Facebook every Monday at 2 pm Central.
URL:https://tnholler.com/event/a-case-of-the-mundays-2/
ATTACH;FMTTYPE=image/png:https://tnholler.com/wp-content/uploads/2020/08/LOGO2.png
END:VEVENT
BEGIN:VEVENT
DTSTART;TZID=America/Chicago:20200917T140000
DTEND;TZID=America/Chicago:20200917T150000
DTSTAMP:20260423T045415
CREATED:20200912T202110Z
LAST-MODIFIED:20200912T202239Z
UID:4718-1600351200-1600354800@tnholler.com
SUMMARY:Thursday #HollerHour
DESCRIPTION:Join us LIVE at 2 pm CT for our bi-weekly #HollerHour with @cassjacks and @kanew where we yell about the news of the week with YOU! DM us on Twitter or Facebook for the video link to join our call so that you can holler at us about whatever you want.
URL:https://tnholler.com/event/hollerhour-5/
ATTACH;FMTTYPE=image/png:https://tnholler.com/wp-content/uploads/2020/08/HollerHourFB.png
END:VEVENT
BEGIN:VEVENT
DTSTART;TZID=America/Chicago:20200916T110000
DTEND;TZID=America/Chicago:20200916T120000
DTSTAMP:20260423T045415
CREATED:20200916T003501Z
LAST-MODIFIED:20200916T003501Z
UID:4755-1600254000-1600257600@tnholler.com
SUMMARY:LIVE with Jane George\, Candidate for State Senate District 6
DESCRIPTION:Join Kanew for an interview with Jane George\, candidate for Tennessee State Senate District 6. George is running against Becky Duncan.
URL:https://tnholler.com/event/live-with-jane-george-candidate-for-state-senate-district-6/
ATTACH;FMTTYPE=image/png:https://tnholler.com/wp-content/uploads/2020/08/Live-Show.png
END:VEVENT
BEGIN:VEVENT
DTSTART;TZID=America/Chicago:20200915T140000
DTEND;TZID=America/Chicago:20200915T150000
DTSTAMP:20260423T045415
CREATED:20200912T201952Z
LAST-MODIFIED:20200912T202252Z
UID:4715-1600178400-1600182000@tnholler.com
SUMMARY:Tuesday #HollerHour
DESCRIPTION:Join us LIVE at 2 pm CT for our bi-weekly #HollerHour with @cassjacks and @kanew where we yell about the news of the week with YOU! DM us on Twitter or Facebook for the video link to join our call so that you can holler at us about whatever you want.
URL:https://tnholler.com/event/hollerhour-4/
ATTACH;FMTTYPE=image/png:https://tnholler.com/wp-content/uploads/2020/08/HollerHourFB.png
END:VEVENT
BEGIN:VEVENT
DTSTART;TZID=America/Chicago:20200915T100000
DTEND;TZID=America/Chicago:20200915T110000
DTSTAMP:20260423T045415
CREATED:20200915T005602Z
LAST-MODIFIED:20200915T005602Z
UID:4750-1600164000-1600167600@tnholler.com
SUMMARY:Better Future Press Conference
DESCRIPTION:Better Future challenges State Senator Dickerson: DISCLOSE YOUR $25 MILLION FRAUD SETTLEMENT WITH THE FEDS.\n\n\n\nTune in on Facebook\, Twitter\, or YouTube at 10 am for the live press conference.
URL:https://tnholler.com/event/better-future-press-conference/
ATTACH;FMTTYPE=image/png:https://tnholler.com/wp-content/uploads/2020/09/FB.png
END:VEVENT
BEGIN:VEVENT
DTSTART;TZID=America/Chicago:20200914T140000
DTEND;TZID=America/Chicago:20200914T150000
DTSTAMP:20260423T045415
CREATED:20200825T044848Z
LAST-MODIFIED:20200905T222833Z
UID:4506-1600092000-1600095600@tnholler.com
SUMMARY:A Case of the Mundays
DESCRIPTION:Wade Munday comes at you LIVE every week to have conversations with local progressives about how to advance justice in Tennessee. Watch the live broadcast on Twitter and Facebook every Monday at 2 pm Central.
URL:https://tnholler.com/event/a-case-of-the-mundays/
ATTACH;FMTTYPE=image/png:https://tnholler.com/wp-content/uploads/2020/08/LOGO2.png
END:VEVENT
BEGIN:VEVENT
DTSTART;TZID=America/Chicago:20200910T180000
DTEND;TZID=America/Chicago:20200910T190000
DTSTAMP:20260423T045415
CREATED:20200901T160750Z
LAST-MODIFIED:20200901T160750Z
UID:4621-1599760800-1599764400@tnholler.com
SUMMARY:Porch Politics with The Equity Alliance
DESCRIPTION:Tune in for a broadcast of Porch Politics\, live on Facebook and Twitter. Voiced by Charlane Oliver and Tequila Johnson\, Porch Politics is a raw\, real and unapologetic conversation between friends turned democracy entrepreneurs. They are co-founders and co-executive directors of The Equity Alliance\, a Tennessee statewide force in building Black voter engagement and economic power\, purposed to uproot systems of inequity.
URL:https://tnholler.com/event/porch-politics-with-the-equity-alliance/
ATTACH;FMTTYPE=image/png:https://tnholler.com/wp-content/uploads/2020/07/PorchPolitics.png
END:VEVENT
BEGIN:VEVENT
DTSTART;TZID=America/Chicago:20200910T140000
DTEND;TZID=America/Chicago:20200910T150000
DTSTAMP:20260423T045415
CREATED:20200901T161045Z
LAST-MODIFIED:20200912T202151Z
UID:4625-1599746400-1599750000@tnholler.com
SUMMARY:#HollerHour
DESCRIPTION:Join us LIVE at 2 pm CT for our weekly #HollerHour with @cassjacks and @kanew where we yell about the news of the week with YOU! DM us on Twitter or Facebook for the video link to join our call so that you can holler at us about whatever you want.
URL:https://tnholler.com/event/hollerhour-3/
ATTACH;FMTTYPE=image/png:https://tnholler.com/wp-content/uploads/2020/08/HollerHourFB.png
END:VEVENT
BEGIN:VEVENT
DTSTART;TZID=America/Chicago:20200908T110000
DTEND;TZID=America/Chicago:20200908T120000
DTSTAMP:20260423T045415
CREATED:20200908T151701Z
LAST-MODIFIED:20200908T151720Z
UID:4673-1599562800-1599566400@tnholler.com
SUMMARY:ANTIFA and The Rise of the Radical Right with DAVID NEIWERT
DESCRIPTION:David Neiwert of Daily Kos joins LIVE to discuss what “ANTIFA!” is and isn’t\, and his book “ALT-AMERICA: THE RISE OF THE RADICAL RIGHT IN THE AGE OF TRUMP.”\n\n\n\nBuy his book.
URL:https://tnholler.com/event/antifa-and-the-rise-of-the-radical-right-with-david-neiwart/
ATTACH;FMTTYPE=image/png:https://tnholler.com/wp-content/uploads/2020/08/Live-Show.png
END:VEVENT
BEGIN:VEVENT
DTSTART;TZID=America/Chicago:20200902T140000
DTEND;TZID=America/Chicago:20200902T150000
DTSTAMP:20260423T045415
CREATED:20200826T200226Z
LAST-MODIFIED:20200901T154144Z
UID:4582-1599055200-1599058800@tnholler.com
SUMMARY:#HollerHour
DESCRIPTION:*This week #HollerHour is on WEDNESDAY\, not Thursday* \nJoin us LIVE at 2 pm CT for our weekly #HollerHour with @cassjacks and @kanew where we yell about the news of the week with YOU! DM us on Twitter or Facebook for the video link to join our call so that you can holler at us about whatever you want.
URL:https://tnholler.com/event/hollerhour-2/
ATTACH;FMTTYPE=image/png:https://tnholler.com/wp-content/uploads/2020/08/HollerHourFB.png
END:VEVENT
BEGIN:VEVENT
DTSTART;TZID=America/Chicago:20200902T120000
DTEND;TZID=America/Chicago:20200902T130000
DTSTAMP:20260423T045415
CREATED:20200901T161923Z
LAST-MODIFIED:20200901T162034Z
UID:4628-1599048000-1599051600@tnholler.com
SUMMARY:ELIZABETH MADEIRA on Her Run to Oust Glen Casada
DESCRIPTION:Elizabeth Madeira is running to defeat the disgraced former Speaker of the House\, Glen Casada in House District 63. She isn’t taking any special interest money and is determined to bring decency back to the House through her people-centered vision for Williamson County.
URL:https://tnholler.com/event/elizabeth-madeira-on-her-run-to-oust-glen-casada-2/
ATTACH;FMTTYPE=image/png:https://tnholler.com/wp-content/uploads/2020/08/Live-Show.png
END:VEVENT
BEGIN:VEVENT
DTSTART;TZID=America/Chicago:20200901T140000
DTEND;TZID=America/Chicago:20200901T150000
DTSTAMP:20260423T045415
CREATED:20200901T155115Z
LAST-MODIFIED:20200901T155115Z
UID:4612-1598968800-1598972400@tnholler.com
SUMMARY:DEREK BLACK on Betsy Devos
DESCRIPTION:Derek Black\, the author of Schoolhouse Burning\, joins Kanew to talk about the assault on public education and how it not only threatens our education system but American democracy itself.
URL:https://tnholler.com/event/derek-black-on-betsy-devos/
ATTACH;FMTTYPE=image/png:https://tnholler.com/wp-content/uploads/2020/08/Live-Show.png
END:VEVENT
BEGIN:VEVENT
DTSTART;TZID=America/Chicago:20200901T110000
DTEND;TZID=America/Chicago:20200901T120000
DTSTAMP:20260423T045415
CREATED:20200901T153951Z
LAST-MODIFIED:20200901T153951Z
UID:4607-1598958000-1598961600@tnholler.com
SUMMARY:VOTE EARLY with Lindsey Smith
DESCRIPTION:Tune in for our flagship broadcast\, The Tennessee Holler Live Show with Justin Kanew. Today we’ll be talking with Lindsey Smith who is working with Vote Early TN\, a nonpartisan public information initiative designed to educate and excite people about early voting.
URL:https://tnholler.com/event/vote-early-with-lindsey-smith-2/
ATTACH;FMTTYPE=image/png:https://tnholler.com/wp-content/uploads/2020/08/Live-Show.png
END:VEVENT
BEGIN:VEVENT
DTSTART;TZID=America/Chicago:20200828T130000
DTEND;TZID=America/Chicago:20200828T140000
DTSTAMP:20260423T045415
CREATED:20200824T231554Z
LAST-MODIFIED:20200824T231554Z
UID:4515-1598619600-1598623200@tnholler.com
SUMMARY:How The Republican Party Lost Its Way with Stuart Stevens
DESCRIPTION:Stuart Stevens joins Justin Kanew on The Tennessee Holler Live Show to talk about how the Republican Party became the party of Trump.
URL:https://tnholler.com/event/how-the-republican-party-lost-its-way-with-stuart-stevens/
ATTACH;FMTTYPE=image/png:https://tnholler.com/wp-content/uploads/2020/08/Live-Show.png
END:VEVENT
BEGIN:VEVENT
DTSTART;TZID=America/Chicago:20200827T180000
DTEND;TZID=America/Chicago:20200827T190000
DTSTAMP:20260423T045415
CREATED:20200825T044204Z
LAST-MODIFIED:20200825T044204Z
UID:4503-1598551200-1598554800@tnholler.com
SUMMARY:Porch Politics
DESCRIPTION:Tune in for a broadcast of Porch Politics\, live on Facebook and Twitter. Voiced by Charlane Oliver and Tequila Johnson\, Porch Politics is a raw\, real and unapologetic conversation between friends turned democracy entrepreneurs. They are co-founders and co-executive directors of The Equity Alliance\, a Tennessee statewide force in building Black voter engagement and economic power\, purposed to uproot systems of inequity.
URL:https://tnholler.com/event/porch-politics/
ATTACH;FMTTYPE=image/png:https://tnholler.com/wp-content/uploads/2020/07/PorchPolitics.png
END:VEVENT
BEGIN:VEVENT
DTSTART;TZID=America/Chicago:20200827T140000
DTEND;TZID=America/Chicago:20200827T150000
DTSTAMP:20260423T045415
CREATED:20200825T041953Z
LAST-MODIFIED:20200825T043112Z
UID:4494-1598536800-1598540400@tnholler.com
SUMMARY:#HollerHour
DESCRIPTION:Join us LIVE at 2 pm CT for our weekly #HollerHour with @cassjacks and @kanew where we yell about the news of the week with YOU! DM us on Twitter or Facebook for the video link to join our call so that you can holler at us about whatever you want.
URL:https://tnholler.com/event/hollerhour/
ATTACH;FMTTYPE=image/png:https://tnholler.com/wp-content/uploads/2020/08/HollerHourFB.png
END:VEVENT
END:VCALENDAR