BEGIN:VCALENDAR
VERSION:2.0
PRODID:-//THE TENNESSEE HOLLER - ECPv6.15.20//NONSGML v1.0//EN
CALSCALE:GREGORIAN
METHOD:PUBLISH
X-WR-CALNAME:THE TENNESSEE HOLLER
X-ORIGINAL-URL:https://tnholler.com
X-WR-CALDESC:Events for THE TENNESSEE HOLLER
REFRESH-INTERVAL;VALUE=DURATION:PT1H
X-Robots-Tag:noindex
X-PUBLISHED-TTL:PT1H
BEGIN:VTIMEZONE
TZID:America/Chicago
BEGIN:DAYLIGHT
TZOFFSETFROM:-0600
TZOFFSETTO:-0500
TZNAME:CDT
DTSTART:20190310T080000
END:DAYLIGHT
BEGIN:STANDARD
TZOFFSETFROM:-0500
TZOFFSETTO:-0600
TZNAME:CST
DTSTART:20191103T070000
END:STANDARD
BEGIN:DAYLIGHT
TZOFFSETFROM:-0600
TZOFFSETTO:-0500
TZNAME:CDT
DTSTART:20200308T080000
END:DAYLIGHT
BEGIN:STANDARD
TZOFFSETFROM:-0500
TZOFFSETTO:-0600
TZNAME:CST
DTSTART:20201101T070000
END:STANDARD
BEGIN:DAYLIGHT
TZOFFSETFROM:-0600
TZOFFSETTO:-0500
TZNAME:CDT
DTSTART:20210314T080000
END:DAYLIGHT
BEGIN:STANDARD
TZOFFSETFROM:-0500
TZOFFSETTO:-0600
TZNAME:CST
DTSTART:20211107T070000
END:STANDARD
END:VTIMEZONE
BEGIN:VEVENT
DTSTART;TZID=America/Chicago:20200901T110000
DTEND;TZID=America/Chicago:20200901T120000
DTSTAMP:20260423T080933
CREATED:20200901T153951Z
LAST-MODIFIED:20200901T153951Z
UID:4607-1598958000-1598961600@tnholler.com
SUMMARY:VOTE EARLY with Lindsey Smith
DESCRIPTION:Tune in for our flagship broadcast\, The Tennessee Holler Live Show with Justin Kanew. Today we’ll be talking with Lindsey Smith who is working with Vote Early TN\, a nonpartisan public information initiative designed to educate and excite people about early voting.
URL:https://tnholler.com/event/vote-early-with-lindsey-smith-2/
ATTACH;FMTTYPE=image/png:https://tnholler.com/wp-content/uploads/2020/08/Live-Show.png
END:VEVENT
BEGIN:VEVENT
DTSTART;TZID=America/Chicago:20200828T130000
DTEND;TZID=America/Chicago:20200828T140000
DTSTAMP:20260423T080933
CREATED:20200824T231554Z
LAST-MODIFIED:20200824T231554Z
UID:4515-1598619600-1598623200@tnholler.com
SUMMARY:How The Republican Party Lost Its Way with Stuart Stevens
DESCRIPTION:Stuart Stevens joins Justin Kanew on The Tennessee Holler Live Show to talk about how the Republican Party became the party of Trump.
URL:https://tnholler.com/event/how-the-republican-party-lost-its-way-with-stuart-stevens/
ATTACH;FMTTYPE=image/png:https://tnholler.com/wp-content/uploads/2020/08/Live-Show.png
END:VEVENT
BEGIN:VEVENT
DTSTART;TZID=America/Chicago:20200827T180000
DTEND;TZID=America/Chicago:20200827T190000
DTSTAMP:20260423T080933
CREATED:20200825T044204Z
LAST-MODIFIED:20200825T044204Z
UID:4503-1598551200-1598554800@tnholler.com
SUMMARY:Porch Politics
DESCRIPTION:Tune in for a broadcast of Porch Politics\, live on Facebook and Twitter. Voiced by Charlane Oliver and Tequila Johnson\, Porch Politics is a raw\, real and unapologetic conversation between friends turned democracy entrepreneurs. They are co-founders and co-executive directors of The Equity Alliance\, a Tennessee statewide force in building Black voter engagement and economic power\, purposed to uproot systems of inequity.
URL:https://tnholler.com/event/porch-politics/
ATTACH;FMTTYPE=image/png:https://tnholler.com/wp-content/uploads/2020/07/PorchPolitics.png
END:VEVENT
BEGIN:VEVENT
DTSTART;TZID=America/Chicago:20200827T140000
DTEND;TZID=America/Chicago:20200827T150000
DTSTAMP:20260423T080933
CREATED:20200825T041953Z
LAST-MODIFIED:20200825T043112Z
UID:4494-1598536800-1598540400@tnholler.com
SUMMARY:#HollerHour
DESCRIPTION:Join us LIVE at 2 pm CT for our weekly #HollerHour with @cassjacks and @kanew where we yell about the news of the week with YOU! DM us on Twitter or Facebook for the video link to join our call so that you can holler at us about whatever you want.
URL:https://tnholler.com/event/hollerhour/
ATTACH;FMTTYPE=image/png:https://tnholler.com/wp-content/uploads/2020/08/HollerHourFB.png
END:VEVENT
END:VCALENDAR